BEGIN:VCALENDAR
VERSION:2.0
PRODID:-//JSS College for Women - ECPv6.15.17//NONSGML v1.0//EN
CALSCALE:GREGORIAN
METHOD:PUBLISH
X-ORIGINAL-URL:https://jsscwchn.com
X-WR-CALDESC:Events for JSS College for Women
REFRESH-INTERVAL;VALUE=DURATION:PT1H
X-Robots-Tag:noindex
X-PUBLISHED-TTL:PT1H
BEGIN:VTIMEZONE
TZID:Asia/Kolkata
BEGIN:STANDARD
TZOFFSETFROM:+0530
TZOFFSETTO:+0530
TZNAME:IST
DTSTART:20180101T000000
END:STANDARD
END:VTIMEZONE
BEGIN:VEVENT
DTSTART;TZID=Asia/Kolkata:20190816T080000
DTEND;TZID=Asia/Kolkata:20190816T170000
DTSTAMP:20260426T065421
CREATED:20191101T092259Z
LAST-MODIFIED:20191120T095136Z
UID:6210-1565942400-1565974800@jsscwchn.com
SUMMARY:Parents – Teachers meeting (Commerce)
DESCRIPTION:
URL:https://jsscwchn.com/event/parents-teachers-meeting-commerce/
CATEGORIES:UG
END:VEVENT
BEGIN:VEVENT
DTSTART;TZID=Asia/Kolkata:20190815T080000
DTEND;TZID=Asia/Kolkata:20190815T170000
DTSTAMP:20260426T065421
CREATED:20191101T092127Z
LAST-MODIFIED:20191120T095127Z
UID:6208-1565856000-1565888400@jsscwchn.com
SUMMARY:Independence Day celebration
DESCRIPTION:
URL:https://jsscwchn.com/event/independence-day-celebration/
CATEGORIES:UG
END:VEVENT
BEGIN:VEVENT
DTSTART;TZID=Asia/Kolkata:20190814T080000
DTEND;TZID=Asia/Kolkata:20190814T170000
DTSTAMP:20260426T065421
CREATED:20191101T092020Z
LAST-MODIFIED:20191120T095120Z
UID:6206-1565769600-1565802000@jsscwchn.com
SUMMARY:Parents – Teachers meeting (Science)
DESCRIPTION:
URL:https://jsscwchn.com/event/parents-teachers-meeting-science/
CATEGORIES:UG
END:VEVENT
BEGIN:VEVENT
DTSTART;TZID=Asia/Kolkata:20190813T080000
DTEND;TZID=Asia/Kolkata:20190813T170000
DTSTAMP:20260426T065421
CREATED:20191101T091933Z
LAST-MODIFIED:20191120T095044Z
UID:6204-1565683200-1565715600@jsscwchn.com
SUMMARY:Parents – Teachers meeting (Arts)
DESCRIPTION:
URL:https://jsscwchn.com/event/parents-teachers-meeting-arts/
CATEGORIES:UG
END:VEVENT
BEGIN:VEVENT
DTSTART;TZID=Asia/Kolkata:20190807T080000
DTEND;TZID=Asia/Kolkata:20190807T170000
DTSTAMP:20260426T065421
CREATED:20191101T091856Z
LAST-MODIFIED:20191120T095035Z
UID:6202-1565164800-1565197200@jsscwchn.com
SUMMARY:IQAC Meeting
DESCRIPTION:
URL:https://jsscwchn.com/event/iqac-meeting/
CATEGORIES:UG
END:VEVENT
BEGIN:VEVENT
DTSTART;TZID=Asia/Kolkata:20190806T080000
DTEND;TZID=Asia/Kolkata:20190807T170000
DTSTAMP:20260426T065421
CREATED:20191101T091758Z
LAST-MODIFIED:20191120T095028Z
UID:6200-1565078400-1565197200@jsscwchn.com
SUMMARY:Talent’s day
DESCRIPTION:
URL:https://jsscwchn.com/event/talents-day/
CATEGORIES:UG
END:VEVENT
BEGIN:VEVENT
DTSTART;TZID=Asia/Kolkata:20190803T080000
DTEND;TZID=Asia/Kolkata:20190803T170000
DTSTAMP:20260426T065421
CREATED:20191101T091650Z
LAST-MODIFIED:20191120T095011Z
UID:6198-1564819200-1564851600@jsscwchn.com
SUMMARY:Commerce club
DESCRIPTION:
URL:https://jsscwchn.com/event/commerce-club/
CATEGORIES:UG
END:VEVENT
BEGIN:VEVENT
DTSTART;TZID=Asia/Kolkata:20190801T080000
DTEND;TZID=Asia/Kolkata:20190801T170000
DTSTAMP:20260426T065421
CREATED:20191101T091610Z
LAST-MODIFIED:20191120T095001Z
UID:6196-1564646400-1564678800@jsscwchn.com
SUMMARY:Commencement of PG I semester classes
DESCRIPTION:
URL:https://jsscwchn.com/event/commencement-of-pg-i-semester-classes/
CATEGORIES:UG
END:VEVENT
BEGIN:VEVENT
DTSTART;TZID=Asia/Kolkata:20190727T080000
DTEND;TZID=Asia/Kolkata:20190727T170000
DTSTAMP:20260426T065421
CREATED:20191101T091530Z
LAST-MODIFIED:20191120T094951Z
UID:6194-1564214400-1564246800@jsscwchn.com
SUMMARY:Student Union Election
DESCRIPTION:
URL:https://jsscwchn.com/event/student-union-election/
CATEGORIES:UG
END:VEVENT
BEGIN:VEVENT
DTSTART;TZID=Asia/Kolkata:20190726T080000
DTEND;TZID=Asia/Kolkata:20190726T170000
DTSTAMP:20260426T065421
CREATED:20191101T091448Z
LAST-MODIFIED:20191120T094942Z
UID:6192-1564128000-1564160400@jsscwchn.com
SUMMARY:Development committee meeting
DESCRIPTION:
URL:https://jsscwchn.com/event/development-committee-meeting/
CATEGORIES:UG
END:VEVENT
BEGIN:VEVENT
DTSTART;TZID=Asia/Kolkata:20190718T080000
DTEND;TZID=Asia/Kolkata:20190718T170000
DTSTAMP:20260426T065421
CREATED:20191101T091413Z
LAST-MODIFIED:20191120T094928Z
UID:6190-1563436800-1563469200@jsscwchn.com
SUMMARY:Cultural committee meeting
DESCRIPTION:
URL:https://jsscwchn.com/event/cultural-committee-meeting/
CATEGORIES:UG
END:VEVENT
BEGIN:VEVENT
DTSTART;TZID=Asia/Kolkata:20190717T080000
DTEND;TZID=Asia/Kolkata:20190717T170000
DTSTAMP:20260426T065421
CREATED:20191101T091339Z
LAST-MODIFIED:20191120T094916Z
UID:6188-1563350400-1563382800@jsscwchn.com
SUMMARY:Library committee meeting
DESCRIPTION:
URL:https://jsscwchn.com/event/library-committee-meeting/
CATEGORIES:UG
END:VEVENT
BEGIN:VEVENT
DTSTART;TZID=Asia/Kolkata:20190716T080000
DTEND;TZID=Asia/Kolkata:20190716T170000
DTSTAMP:20260426T065421
CREATED:20191101T091302Z
LAST-MODIFIED:20191120T094902Z
UID:6186-1563264000-1563296400@jsscwchn.com
SUMMARY:NSS Unit inauguration
DESCRIPTION:
URL:https://jsscwchn.com/event/nss-unit-inauguration/
CATEGORIES:UG
END:VEVENT
BEGIN:VEVENT
DTSTART;TZID=Asia/Kolkata:20190715T080000
DTEND;TZID=Asia/Kolkata:20190715T170000
DTSTAMP:20260426T065421
CREATED:20191101T091226Z
LAST-MODIFIED:20191120T094852Z
UID:6184-1563177600-1563210000@jsscwchn.com
SUMMARY:Commencement of PG III semester classes
DESCRIPTION:
URL:https://jsscwchn.com/event/commencement-of-pg-iii-semester-classes/
CATEGORIES:UG
END:VEVENT
BEGIN:VEVENT
DTSTART;TZID=Asia/Kolkata:20190715T080000
DTEND;TZID=Asia/Kolkata:20190715T170000
DTSTAMP:20260426T065421
CREATED:20191101T091131Z
LAST-MODIFIED:20191120T094847Z
UID:6182-1563177600-1563210000@jsscwchn.com
SUMMARY:CBCS related HOD’s Meeting
DESCRIPTION:
URL:https://jsscwchn.com/event/cbcs-related-hods-meeting/
CATEGORIES:UG
END:VEVENT
BEGIN:VEVENT
DTSTART;TZID=Asia/Kolkata:20190628T080000
DTEND;TZID=Asia/Kolkata:20190628T170000
DTSTAMP:20260426T065421
CREATED:20191101T085746Z
LAST-MODIFIED:20191120T094753Z
UID:6176-1561708800-1561741200@jsscwchn.com
SUMMARY:NSS committee Meeting
DESCRIPTION:
URL:https://jsscwchn.com/event/nss-committee-meeting/
CATEGORIES:UG
END:VEVENT
BEGIN:VEVENT
DTSTART;TZID=Asia/Kolkata:20190621T080000
DTEND;TZID=Asia/Kolkata:20190621T170000
DTSTAMP:20260426T065421
CREATED:20191101T085609Z
LAST-MODIFIED:20191120T094742Z
UID:6174-1561104000-1561136400@jsscwchn.com
SUMMARY:International Yoga Day
DESCRIPTION:
URL:https://jsscwchn.com/event/international-yoga-day/
CATEGORIES:UG
END:VEVENT
BEGIN:VEVENT
DTSTART;TZID=Asia/Kolkata:20190619T080000
DTEND;TZID=Asia/Kolkata:20190619T170000
DTSTAMP:20260426T065421
CREATED:20191101T085506Z
LAST-MODIFIED:20191120T094735Z
UID:6172-1560931200-1560963600@jsscwchn.com
SUMMARY:Staff Meeting
DESCRIPTION:
URL:https://jsscwchn.com/event/staff-meeting/
CATEGORIES:UG
END:VEVENT
BEGIN:VEVENT
DTSTART;TZID=Asia/Kolkata:20190618T080000
DTEND;TZID=Asia/Kolkata:20190618T170000
DTSTAMP:20260426T065421
CREATED:20191101T085358Z
LAST-MODIFIED:20191120T094715Z
UID:6170-1560844800-1560877200@jsscwchn.com
SUMMARY:HOD’s Meeting
DESCRIPTION:
URL:https://jsscwchn.com/event/hods-meeting/
CATEGORIES:UG
END:VEVENT
BEGIN:VEVENT
DTSTART;TZID=Asia/Kolkata:20190617T000000
DTEND;TZID=Asia/Kolkata:20190617T000000
DTSTAMP:20260426T065421
CREATED:20191101T081811Z
LAST-MODIFIED:20191120T094707Z
UID:6168-1560729600-1560729600@jsscwchn.com
SUMMARY:Commencement of UG Odd semester classes
DESCRIPTION:
URL:https://jsscwchn.com/event/commencement-of-ug-odd-semester-classes/
CATEGORIES:UG
END:VEVENT
BEGIN:VEVENT
DTSTART;TZID=Asia/Kolkata:20190610T090000
DTEND;TZID=Asia/Kolkata:20191101T170000
DTSTAMP:20260426T065421
CREATED:20191101T081333Z
LAST-MODIFIED:20191120T094622Z
UID:6166-1560157200-1572627600@jsscwchn.com
SUMMARY:Re-opening of UG colleges
DESCRIPTION:
URL:https://jsscwchn.com/event/re-opening-of-ug-colleges/
CATEGORIES:UG
END:VEVENT
END:VCALENDAR